BEGIN:VCALENDAR
VERSION:2.0
PRODID:-//Kerschensteinerschule Hausen Frankfurt am Main - ECPv6.15.20//NONSGML v1.0//EN
CALSCALE:GREGORIAN
METHOD:PUBLISH
X-ORIGINAL-URL:http://kerschensteinerschule-hausen.de
X-WR-CALDESC:Veranstaltungen für Kerschensteinerschule Hausen Frankfurt am Main
REFRESH-INTERVAL;VALUE=DURATION:PT1H
X-Robots-Tag:noindex
X-PUBLISHED-TTL:PT1H
BEGIN:VTIMEZONE
TZID:Europe/Berlin
BEGIN:DAYLIGHT
TZOFFSETFROM:+0100
TZOFFSETTO:+0200
TZNAME:CEST
DTSTART:20250330T010000
END:DAYLIGHT
BEGIN:STANDARD
TZOFFSETFROM:+0200
TZOFFSETTO:+0100
TZNAME:CET
DTSTART:20251026T010000
END:STANDARD
BEGIN:DAYLIGHT
TZOFFSETFROM:+0100
TZOFFSETTO:+0200
TZNAME:CEST
DTSTART:20260329T010000
END:DAYLIGHT
BEGIN:STANDARD
TZOFFSETFROM:+0200
TZOFFSETTO:+0100
TZNAME:CET
DTSTART:20261025T010000
END:STANDARD
BEGIN:DAYLIGHT
TZOFFSETFROM:+0100
TZOFFSETTO:+0200
TZNAME:CEST
DTSTART:20270328T010000
END:DAYLIGHT
BEGIN:STANDARD
TZOFFSETFROM:+0200
TZOFFSETTO:+0100
TZNAME:CET
DTSTART:20271031T010000
END:STANDARD
END:VTIMEZONE
BEGIN:VEVENT
DTSTART;TZID=Europe/Berlin:20260330T080000
DTEND;TZID=Europe/Berlin:20260410T170000
DTSTAMP:20260424T111642
CREATED:20251013T064019Z
LAST-MODIFIED:20251013T064019Z
UID:3352-1774857600-1775840400@kerschensteinerschule-hausen.de
SUMMARY:Osterferien\,  Betreuung nach Anmeldung
DESCRIPTION:
URL:http://kerschensteinerschule-hausen.de/event/osterferien-betreuung-nach-anmeldung-4/
LOCATION:SCHULFREI
CATEGORIES:FÜR ALLE
END:VEVENT
END:VCALENDAR