BEGIN:VCALENDAR
VERSION:2.0
PRODID:-//Kerschensteinerschule Hausen Frankfurt am Main - ECPv6.15.20//NONSGML v1.0//EN
CALSCALE:GREGORIAN
METHOD:PUBLISH
X-ORIGINAL-URL:http://kerschensteinerschule-hausen.de
X-WR-CALDESC:Veranstaltungen für Kerschensteinerschule Hausen Frankfurt am Main
REFRESH-INTERVAL;VALUE=DURATION:PT1H
X-Robots-Tag:noindex
X-PUBLISHED-TTL:PT1H
BEGIN:VTIMEZONE
TZID:Europe/Berlin
BEGIN:DAYLIGHT
TZOFFSETFROM:+0100
TZOFFSETTO:+0200
TZNAME:CEST
DTSTART:20250330T010000
END:DAYLIGHT
BEGIN:STANDARD
TZOFFSETFROM:+0200
TZOFFSETTO:+0100
TZNAME:CET
DTSTART:20251026T010000
END:STANDARD
BEGIN:DAYLIGHT
TZOFFSETFROM:+0100
TZOFFSETTO:+0200
TZNAME:CEST
DTSTART:20260329T010000
END:DAYLIGHT
BEGIN:STANDARD
TZOFFSETFROM:+0200
TZOFFSETTO:+0100
TZNAME:CET
DTSTART:20261025T010000
END:STANDARD
BEGIN:DAYLIGHT
TZOFFSETFROM:+0100
TZOFFSETTO:+0200
TZNAME:CEST
DTSTART:20270328T010000
END:DAYLIGHT
BEGIN:STANDARD
TZOFFSETFROM:+0200
TZOFFSETTO:+0100
TZNAME:CET
DTSTART:20271031T010000
END:STANDARD
END:VTIMEZONE
BEGIN:VEVENT
DTSTART;TZID=Europe/Berlin:20260429T083000
DTEND;TZID=Europe/Berlin:20260429T123000
DTSTAMP:20260420T144426
CREATED:20251013T064134Z
LAST-MODIFIED:20251013T064134Z
UID:3354-1777451400-1777465800@kerschensteinerschule-hausen.de
SUMMARY:"Toter Winkel"\, Sicherheitsprojekt ADAC für Jahrgang 4
DESCRIPTION:
URL:http://kerschensteinerschule-hausen.de/event/toter-winkel-sicherheitsprojekt-adac-fuer-jahrgang-4/
LOCATION:Kerschensteinerschule
CATEGORIES:SCHÜLER & LEHRER
END:VEVENT
BEGIN:VEVENT
DTSTART;TZID=Europe/Berlin:20260430T080000
DTEND;TZID=Europe/Berlin:20260513T170000
DTSTAMP:20260420T144426
CREATED:20251013T064247Z
LAST-MODIFIED:20251013T064247Z
UID:3356-1777536000-1778691600@kerschensteinerschule-hausen.de
SUMMARY:Radfahrausbildung\, Jahrgang 4
DESCRIPTION:
URL:http://kerschensteinerschule-hausen.de/event/radfahrausbildung-jahrgang-4/
LOCATION:Kerschensteinerschule
CATEGORIES:SCHÜLER & LEHRER
END:VEVENT
BEGIN:VEVENT
DTSTART;VALUE=DATE:20260501
DTEND;VALUE=DATE:20260502
DTSTAMP:20260420T144426
CREATED:20251013T064336Z
LAST-MODIFIED:20251013T064336Z
UID:3358-1777593600-1777679999@kerschensteinerschule-hausen.de
SUMMARY:1. Mai\, gesetzlicher Feiertag
DESCRIPTION:
URL:http://kerschensteinerschule-hausen.de/event/1-mai-gesetzlicher-feiertag-2/
LOCATION:SCHULFREI
CATEGORIES:FÜR ALLE
END:VEVENT
BEGIN:VEVENT
DTSTART;TZID=Europe/Berlin:20260513T080000
DTEND;TZID=Europe/Berlin:20260513T123000
DTSTAMP:20260420T144426
CREATED:20251013T064459Z
LAST-MODIFIED:20251013T064459Z
UID:3360-1778659200-1778675400@kerschensteinerschule-hausen.de
SUMMARY:Radfahrausbildung\, incl. Prüfung 4a
DESCRIPTION:
URL:http://kerschensteinerschule-hausen.de/event/radfahrausbildung-incl-pruefung-4a/
LOCATION:Kerschensteinerschule
CATEGORIES:SCHÜLER & LEHRER
END:VEVENT
BEGIN:VEVENT
DTSTART;VALUE=DATE:20260514
DTEND;VALUE=DATE:20260515
DTSTAMP:20260420T144426
CREATED:20251013T064600Z
LAST-MODIFIED:20251013T064600Z
UID:3362-1778716800-1778803199@kerschensteinerschule-hausen.de
SUMMARY:Christi Himmelfahrt\, gesetzlicher Feiertag
DESCRIPTION:
URL:http://kerschensteinerschule-hausen.de/event/christi-himmelfahrt-gesetzlicher-feiertag-2/
LOCATION:SCHULFREI
CATEGORIES:FÜR ALLE
END:VEVENT
BEGIN:VEVENT
DTSTART;VALUE=DATE:20260515
DTEND;VALUE=DATE:20260516
DTSTAMP:20260420T144426
CREATED:20251013T064649Z
LAST-MODIFIED:20251013T064649Z
UID:3364-1778803200-1778889599@kerschensteinerschule-hausen.de
SUMMARY:beweglicher Feiertag\, Betreuung geschlossen
DESCRIPTION:
URL:http://kerschensteinerschule-hausen.de/event/beweglicher-feiertag-betreuung-geschlossen/
LOCATION:SCHULFREI
CATEGORIES:FÜR ALLE
END:VEVENT
BEGIN:VEVENT
DTSTART;TZID=Europe/Berlin:20260518T080000
DTEND;TZID=Europe/Berlin:20260518T123000
DTSTAMP:20260420T144426
CREATED:20251013T064754Z
LAST-MODIFIED:20251013T064754Z
UID:3366-1779091200-1779107400@kerschensteinerschule-hausen.de
SUMMARY:Radfahrausbildung incl. Prüfung\, 4b
DESCRIPTION:
URL:http://kerschensteinerschule-hausen.de/event/radfahrausbildung-incl-pruefung-4b/
LOCATION:Kerschensteinerschule
CATEGORIES:SCHÜLER & LEHRER
END:VEVENT
BEGIN:VEVENT
DTSTART;TZID=Europe/Berlin:20260519T080000
DTEND;TZID=Europe/Berlin:20260519T123000
DTSTAMP:20260420T144426
CREATED:20251013T064848Z
LAST-MODIFIED:20251013T064848Z
UID:3368-1779177600-1779193800@kerschensteinerschule-hausen.de
SUMMARY:Radfahrausbildung incl. Prüfung\, 4c
DESCRIPTION:
URL:http://kerschensteinerschule-hausen.de/event/radfahrausbildung-incl-pruefung-4c/
LOCATION:Kerschensteinerschule
CATEGORIES:SCHÜLER & LEHRER
END:VEVENT
BEGIN:VEVENT
DTSTART;TZID=Europe/Berlin:20260520T080000
DTEND;TZID=Europe/Berlin:20260520T123000
DTSTAMP:20260420T144426
CREATED:20251013T064939Z
LAST-MODIFIED:20251013T064939Z
UID:3370-1779264000-1779280200@kerschensteinerschule-hausen.de
SUMMARY:Radfahrausbildung incl. Prüfung\, 4d
DESCRIPTION:
URL:http://kerschensteinerschule-hausen.de/event/radfahrausbildung-incl-pruefung-4d/
LOCATION:Kerschensteinerschule
CATEGORIES:SCHÜLER & LEHRER
END:VEVENT
BEGIN:VEVENT
DTSTART;VALUE=DATE:20260525
DTEND;VALUE=DATE:20260526
DTSTAMP:20260420T144426
CREATED:20251013T065028Z
LAST-MODIFIED:20251013T065028Z
UID:3372-1779667200-1779753599@kerschensteinerschule-hausen.de
SUMMARY:Pfingsmontag\, gesetzlicher Feiertag
DESCRIPTION:
URL:http://kerschensteinerschule-hausen.de/event/pfingsmontag-gesetzlicher-feiertag-2/
LOCATION:SCHULFREI
CATEGORIES:FÜR ALLE
END:VEVENT
BEGIN:VEVENT
DTSTART;VALUE=DATE:20260527
DTEND;VALUE=DATE:20260528
DTSTAMP:20260420T144426
CREATED:20251013T065144Z
LAST-MODIFIED:20251013T065144Z
UID:3374-1779840000-1779926399@kerschensteinerschule-hausen.de
SUMMARY:Opferfest\, musl. Schüler und Schülerinnen auf Antrag freigestellt
DESCRIPTION:
URL:http://kerschensteinerschule-hausen.de/event/opferfest-musl-schueler-und-schuelerinnen-auf-antrag-freigestellt/
LOCATION:Kerschensteinerschule
CATEGORIES:SCHÜLER & LEHRER
END:VEVENT
BEGIN:VEVENT
DTSTART;VALUE=DATE:20260604
DTEND;VALUE=DATE:20260605
DTSTAMP:20260420T144426
CREATED:20251013T065303Z
LAST-MODIFIED:20251013T065303Z
UID:3376-1780531200-1780617599@kerschensteinerschule-hausen.de
SUMMARY:Fronleichnam\, gesetzlicher Feiertag
DESCRIPTION:
URL:http://kerschensteinerschule-hausen.de/event/fronleichnam-gesetzlicher-feiertag-2/
LOCATION:SCHULFREI
CATEGORIES:FÜR ALLE
END:VEVENT
BEGIN:VEVENT
DTSTART;VALUE=DATE:20260605
DTEND;VALUE=DATE:20260606
DTSTAMP:20260420T144426
CREATED:20251013T065400Z
LAST-MODIFIED:20251013T065400Z
UID:3378-1780617600-1780703999@kerschensteinerschule-hausen.de
SUMMARY:beweglicher Feiertag\, Betreuung geschlossen
DESCRIPTION:
URL:http://kerschensteinerschule-hausen.de/event/beweglicher-feiertag-betreuung-geschlossen-2/
LOCATION:SCHULFREI
CATEGORIES:FÜR ALLE
END:VEVENT
BEGIN:VEVENT
DTSTART;TZID=Europe/Berlin:20260616T180000
DTEND;TZID=Europe/Berlin:20260616T190000
DTSTAMP:20260420T144426
CREATED:20251013T065521Z
LAST-MODIFIED:20251013T065521Z
UID:3380-1781632800-1781636400@kerschensteinerschule-hausen.de
SUMMARY:3. Schulkonferenzsitzung
DESCRIPTION:
URL:http://kerschensteinerschule-hausen.de/event/3-schulkonferenzsitzung/
LOCATION:Lehrerzimmer
CATEGORIES:ELTERN & LEHRER
END:VEVENT
BEGIN:VEVENT
DTSTART;TZID=Europe/Berlin:20260616T190000
DTEND;TZID=Europe/Berlin:20260616T203000
DTSTAMP:20260420T144426
CREATED:20251013T065612Z
LAST-MODIFIED:20251013T065612Z
UID:3382-1781636400-1781641800@kerschensteinerschule-hausen.de
SUMMARY:3. SEB-Sitzung
DESCRIPTION:
URL:http://kerschensteinerschule-hausen.de/event/3-seb-sitzung-3/
LOCATION:Mensa
CATEGORIES:ELTERN & LEHRER
END:VEVENT
BEGIN:VEVENT
DTSTART;TZID=Europe/Berlin:20260623T190000
DTEND;TZID=Europe/Berlin:20260623T203000
DTSTAMP:20260420T144426
CREATED:20251013T065733Z
LAST-MODIFIED:20251013T065733Z
UID:3384-1782241200-1782246600@kerschensteinerschule-hausen.de
SUMMARY:Informationselternabend für künftige Erstklasseltern
DESCRIPTION:
URL:http://kerschensteinerschule-hausen.de/event/informationselternabend-fuer-kuenftige-erstklasseltern/
LOCATION:Musikraum
CATEGORIES:ELTERN & LEHRER
END:VEVENT
BEGIN:VEVENT
DTSTART;TZID=Europe/Berlin:20260626T080000
DTEND;TZID=Europe/Berlin:20260626T104500
DTSTAMP:20260420T144426
CREATED:20251013T065907Z
LAST-MODIFIED:20251013T065907Z
UID:3386-1782460800-1782470700@kerschensteinerschule-hausen.de
SUMMARY:Zeugnisausgabe/ letzter Schultag vor den Sommerferien/ Betreuung ab 10:45
DESCRIPTION:
URL:http://kerschensteinerschule-hausen.de/event/zeugnisausgabe-letzter-schultag-vor-den-sommerferien-betreuung-ab-1045/
LOCATION:Kerschensteinerschule
CATEGORIES:SCHÜLER & LEHRER
END:VEVENT
BEGIN:VEVENT
DTSTART;VALUE=DATE:20260629
DTEND;VALUE=DATE:20260808
DTSTAMP:20260420T144426
CREATED:20251013T070016Z
LAST-MODIFIED:20251013T070037Z
UID:3388-1782691200-1786147199@kerschensteinerschule-hausen.de
SUMMARY:Sommerferien\, Betreuung nach Anmeldung\, Woche 4-6
DESCRIPTION:
URL:http://kerschensteinerschule-hausen.de/event/sommerferien-betreuung-nach-anmeldung/
LOCATION:SCHULFREI
CATEGORIES:FÜR ALLE
END:VEVENT
BEGIN:VEVENT
DTSTART;TZID=Europe/Berlin:20260810T084500
DTEND;TZID=Europe/Berlin:20260810T123500
DTSTAMP:20260420T144426
CREATED:20251013T070139Z
LAST-MODIFIED:20251013T070139Z
UID:3391-1786351500-1786365300@kerschensteinerschule-hausen.de
SUMMARY:1. Schultag
DESCRIPTION:
URL:http://kerschensteinerschule-hausen.de/event/1-schultag-3/
LOCATION:Kerschensteinerschule
CATEGORIES:SCHÜLER & LEHRER
END:VEVENT
BEGIN:VEVENT
DTSTART;TZID=Europe/Berlin:20260811T100000
DTEND;TZID=Europe/Berlin:20260811T120000
DTSTAMP:20260420T144426
CREATED:20251013T070238Z
LAST-MODIFIED:20251013T070238Z
UID:3393-1786442400-1786449600@kerschensteinerschule-hausen.de
SUMMARY:Einschulung 2026/27
DESCRIPTION:
URL:http://kerschensteinerschule-hausen.de/event/einschulung-2026-27/
LOCATION:Kerschensteinerschule
CATEGORIES:FÜR ALLE,SCHÜLER & LEHRER
END:VEVENT
END:VCALENDAR