BEGIN:VCALENDAR
VERSION:2.0
PRODID:-//Kerschensteinerschule Hausen Frankfurt am Main - ECPv6.15.20//NONSGML v1.0//EN
CALSCALE:GREGORIAN
METHOD:PUBLISH
X-WR-CALNAME:Kerschensteinerschule Hausen Frankfurt am Main
X-ORIGINAL-URL:http://kerschensteinerschule-hausen.de
X-WR-CALDESC:Veranstaltungen für Kerschensteinerschule Hausen Frankfurt am Main
REFRESH-INTERVAL;VALUE=DURATION:PT1H
X-Robots-Tag:noindex
X-PUBLISHED-TTL:PT1H
BEGIN:VTIMEZONE
TZID:Europe/Berlin
BEGIN:DAYLIGHT
TZOFFSETFROM:+0100
TZOFFSETTO:+0200
TZNAME:CEST
DTSTART:20250330T010000
END:DAYLIGHT
BEGIN:STANDARD
TZOFFSETFROM:+0200
TZOFFSETTO:+0100
TZNAME:CET
DTSTART:20251026T010000
END:STANDARD
BEGIN:DAYLIGHT
TZOFFSETFROM:+0100
TZOFFSETTO:+0200
TZNAME:CEST
DTSTART:20260329T010000
END:DAYLIGHT
BEGIN:STANDARD
TZOFFSETFROM:+0200
TZOFFSETTO:+0100
TZNAME:CET
DTSTART:20261025T010000
END:STANDARD
BEGIN:DAYLIGHT
TZOFFSETFROM:+0100
TZOFFSETTO:+0200
TZNAME:CEST
DTSTART:20270328T010000
END:DAYLIGHT
BEGIN:STANDARD
TZOFFSETFROM:+0200
TZOFFSETTO:+0100
TZNAME:CET
DTSTART:20271031T010000
END:STANDARD
END:VTIMEZONE
BEGIN:VEVENT
DTSTART;TZID=Europe/Berlin:20260209T080000
DTEND;TZID=Europe/Berlin:20260209T123000
DTSTAMP:20260424T124812
CREATED:20251012T101036Z
LAST-MODIFIED:20251012T101036Z
UID:3330-1770624000-1770640200@kerschensteinerschule-hausen.de
SUMMARY:Bundesjugendspiele/ Turnen
DESCRIPTION:
URL:http://kerschensteinerschule-hausen.de/event/bundesjugendspiele-turnen/
LOCATION:Turnhalle
CATEGORIES:SCHÜLER & LEHRER
END:VEVENT
BEGIN:VEVENT
DTSTART;VALUE=DATE:20260213
DTEND;VALUE=DATE:20260214
DTSTAMP:20260424T124812
CREATED:20251012T101128Z
LAST-MODIFIED:20260208T171153Z
UID:3332-1770940800-1771027199@kerschensteinerschule-hausen.de
SUMMARY:beweglicher Ferientag/ Betreuung nach Anmeldung
DESCRIPTION:
URL:http://kerschensteinerschule-hausen.de/event/beweglicher-ferientag/
LOCATION:SCHULFREI
CATEGORIES:FÜR ALLE
END:VEVENT
BEGIN:VEVENT
DTSTART;VALUE=DATE:20260216
DTEND;VALUE=DATE:20260217
DTSTAMP:20260424T124812
CREATED:20251012T101214Z
LAST-MODIFIED:20260208T171250Z
UID:3334-1771200000-1771286399@kerschensteinerschule-hausen.de
SUMMARY:beweglicher Ferientag/ Rosenmontag/ Betreuung nach Anmeldung
DESCRIPTION:
URL:http://kerschensteinerschule-hausen.de/event/beweglicher-ferientag-rosenmontag/
LOCATION:SCHULFREI
CATEGORIES:FÜR ALLE
END:VEVENT
BEGIN:VEVENT
DTSTART;TZID=Europe/Berlin:20260217T080000
DTEND;TZID=Europe/Berlin:20260217T123000
DTSTAMP:20260424T124812
CREATED:20251012T101313Z
LAST-MODIFIED:20251012T101313Z
UID:3336-1771315200-1771331400@kerschensteinerschule-hausen.de
SUMMARY:Faschingsdienstag mit Feier in der Schule
DESCRIPTION:
URL:http://kerschensteinerschule-hausen.de/event/faschingsdienstag-mit-feier-in-der-schule-2/
LOCATION:Kerschensteinerschule
CATEGORIES:SCHÜLER & LEHRER
END:VEVENT
END:VCALENDAR