BEGIN:VCALENDAR
VERSION:2.0
PRODID:-//Kerschensteinerschule Hausen Frankfurt am Main - ECPv6.15.20//NONSGML v1.0//EN
CALSCALE:GREGORIAN
METHOD:PUBLISH
X-ORIGINAL-URL:http://kerschensteinerschule-hausen.de
X-WR-CALDESC:Veranstaltungen für Kerschensteinerschule Hausen Frankfurt am Main
REFRESH-INTERVAL;VALUE=DURATION:PT1H
X-Robots-Tag:noindex
X-PUBLISHED-TTL:PT1H
BEGIN:VTIMEZONE
TZID:Europe/Berlin
BEGIN:DAYLIGHT
TZOFFSETFROM:+0100
TZOFFSETTO:+0200
TZNAME:CEST
DTSTART:20250330T010000
END:DAYLIGHT
BEGIN:STANDARD
TZOFFSETFROM:+0200
TZOFFSETTO:+0100
TZNAME:CET
DTSTART:20251026T010000
END:STANDARD
BEGIN:DAYLIGHT
TZOFFSETFROM:+0100
TZOFFSETTO:+0200
TZNAME:CEST
DTSTART:20260329T010000
END:DAYLIGHT
BEGIN:STANDARD
TZOFFSETFROM:+0200
TZOFFSETTO:+0100
TZNAME:CET
DTSTART:20261025T010000
END:STANDARD
BEGIN:DAYLIGHT
TZOFFSETFROM:+0100
TZOFFSETTO:+0200
TZNAME:CEST
DTSTART:20270328T010000
END:DAYLIGHT
BEGIN:STANDARD
TZOFFSETFROM:+0200
TZOFFSETTO:+0100
TZNAME:CET
DTSTART:20271031T010000
END:STANDARD
END:VTIMEZONE
BEGIN:VEVENT
DTSTART;VALUE=DATE:20260605
DTEND;VALUE=DATE:20260606
DTSTAMP:20260420T140147
CREATED:20251013T065400Z
LAST-MODIFIED:20251013T065400Z
UID:3378-1780617600-1780703999@kerschensteinerschule-hausen.de
SUMMARY:beweglicher Feiertag\, Betreuung geschlossen
DESCRIPTION:
URL:http://kerschensteinerschule-hausen.de/event/beweglicher-feiertag-betreuung-geschlossen-2/
LOCATION:SCHULFREI
CATEGORIES:FÜR ALLE
END:VEVENT
BEGIN:VEVENT
DTSTART;TZID=Europe/Berlin:20260616T180000
DTEND;TZID=Europe/Berlin:20260616T190000
DTSTAMP:20260420T140147
CREATED:20251013T065521Z
LAST-MODIFIED:20251013T065521Z
UID:3380-1781632800-1781636400@kerschensteinerschule-hausen.de
SUMMARY:3. Schulkonferenzsitzung
DESCRIPTION:
URL:http://kerschensteinerschule-hausen.de/event/3-schulkonferenzsitzung/
LOCATION:Lehrerzimmer
CATEGORIES:ELTERN & LEHRER
END:VEVENT
BEGIN:VEVENT
DTSTART;TZID=Europe/Berlin:20260616T190000
DTEND;TZID=Europe/Berlin:20260616T203000
DTSTAMP:20260420T140147
CREATED:20251013T065612Z
LAST-MODIFIED:20251013T065612Z
UID:3382-1781636400-1781641800@kerschensteinerschule-hausen.de
SUMMARY:3. SEB-Sitzung
DESCRIPTION:
URL:http://kerschensteinerschule-hausen.de/event/3-seb-sitzung-3/
LOCATION:Mensa
CATEGORIES:ELTERN & LEHRER
END:VEVENT
BEGIN:VEVENT
DTSTART;TZID=Europe/Berlin:20260623T190000
DTEND;TZID=Europe/Berlin:20260623T203000
DTSTAMP:20260420T140147
CREATED:20251013T065733Z
LAST-MODIFIED:20251013T065733Z
UID:3384-1782241200-1782246600@kerschensteinerschule-hausen.de
SUMMARY:Informationselternabend für künftige Erstklasseltern
DESCRIPTION:
URL:http://kerschensteinerschule-hausen.de/event/informationselternabend-fuer-kuenftige-erstklasseltern/
LOCATION:Musikraum
CATEGORIES:ELTERN & LEHRER
END:VEVENT
BEGIN:VEVENT
DTSTART;TZID=Europe/Berlin:20260626T080000
DTEND;TZID=Europe/Berlin:20260626T104500
DTSTAMP:20260420T140147
CREATED:20251013T065907Z
LAST-MODIFIED:20251013T065907Z
UID:3386-1782460800-1782470700@kerschensteinerschule-hausen.de
SUMMARY:Zeugnisausgabe/ letzter Schultag vor den Sommerferien/ Betreuung ab 10:45
DESCRIPTION:
URL:http://kerschensteinerschule-hausen.de/event/zeugnisausgabe-letzter-schultag-vor-den-sommerferien-betreuung-ab-1045/
LOCATION:Kerschensteinerschule
CATEGORIES:SCHÜLER & LEHRER
END:VEVENT
BEGIN:VEVENT
DTSTART;VALUE=DATE:20260629
DTEND;VALUE=DATE:20260808
DTSTAMP:20260420T140147
CREATED:20251013T070016Z
LAST-MODIFIED:20251013T070037Z
UID:3388-1782691200-1786147199@kerschensteinerschule-hausen.de
SUMMARY:Sommerferien\, Betreuung nach Anmeldung\, Woche 4-6
DESCRIPTION:
URL:http://kerschensteinerschule-hausen.de/event/sommerferien-betreuung-nach-anmeldung/
LOCATION:SCHULFREI
CATEGORIES:FÜR ALLE
END:VEVENT
BEGIN:VEVENT
DTSTART;TZID=Europe/Berlin:20260810T084500
DTEND;TZID=Europe/Berlin:20260810T123500
DTSTAMP:20260420T140147
CREATED:20251013T070139Z
LAST-MODIFIED:20251013T070139Z
UID:3391-1786351500-1786365300@kerschensteinerschule-hausen.de
SUMMARY:1. Schultag
DESCRIPTION:
URL:http://kerschensteinerschule-hausen.de/event/1-schultag-3/
LOCATION:Kerschensteinerschule
CATEGORIES:SCHÜLER & LEHRER
END:VEVENT
BEGIN:VEVENT
DTSTART;TZID=Europe/Berlin:20260811T100000
DTEND;TZID=Europe/Berlin:20260811T120000
DTSTAMP:20260420T140147
CREATED:20251013T070238Z
LAST-MODIFIED:20251013T070238Z
UID:3393-1786442400-1786449600@kerschensteinerschule-hausen.de
SUMMARY:Einschulung 2026/27
DESCRIPTION:
URL:http://kerschensteinerschule-hausen.de/event/einschulung-2026-27/
LOCATION:Kerschensteinerschule
CATEGORIES:FÜR ALLE,SCHÜLER & LEHRER
END:VEVENT
END:VCALENDAR