BEGIN:VCALENDAR
VERSION:2.0
PRODID:-//Kerschensteinerschule Hausen Frankfurt am Main - ECPv6.15.20//NONSGML v1.0//EN
CALSCALE:GREGORIAN
METHOD:PUBLISH
X-ORIGINAL-URL:https://kerschensteinerschule-hausen.de
X-WR-CALDESC:Veranstaltungen für Kerschensteinerschule Hausen Frankfurt am Main
REFRESH-INTERVAL;VALUE=DURATION:PT1H
X-Robots-Tag:noindex
X-PUBLISHED-TTL:PT1H
BEGIN:VTIMEZONE
TZID:Europe/Berlin
BEGIN:DAYLIGHT
TZOFFSETFROM:+0100
TZOFFSETTO:+0200
TZNAME:CEST
DTSTART:20240331T010000
END:DAYLIGHT
BEGIN:STANDARD
TZOFFSETFROM:+0200
TZOFFSETTO:+0100
TZNAME:CET
DTSTART:20241027T010000
END:STANDARD
BEGIN:DAYLIGHT
TZOFFSETFROM:+0100
TZOFFSETTO:+0200
TZNAME:CEST
DTSTART:20250330T010000
END:DAYLIGHT
BEGIN:STANDARD
TZOFFSETFROM:+0200
TZOFFSETTO:+0100
TZNAME:CET
DTSTART:20251026T010000
END:STANDARD
BEGIN:DAYLIGHT
TZOFFSETFROM:+0100
TZOFFSETTO:+0200
TZNAME:CEST
DTSTART:20260329T010000
END:DAYLIGHT
BEGIN:STANDARD
TZOFFSETFROM:+0200
TZOFFSETTO:+0100
TZNAME:CET
DTSTART:20261025T010000
END:STANDARD
END:VTIMEZONE
BEGIN:VEVENT
DTSTART;TZID=Europe/Berlin:20250828T190000
DTEND;TZID=Europe/Berlin:20250828T203000
DTSTAMP:20260420T143134
CREATED:20250823T140656Z
LAST-MODIFIED:20250823T140656Z
UID:3222-1756407600-1756413000@kerschensteinerschule-hausen.de
SUMMARY:Elternabend Jahrgang 1 mit Wahl
DESCRIPTION:
URL:https://kerschensteinerschule-hausen.de/event/elternabend-jahrgang-1-mit-wahl/
LOCATION:Kerschensteinerschule
CATEGORIES:ELTERN & LEHRER
END:VEVENT
END:VCALENDAR