BEGIN:VCALENDAR
VERSION:2.0
PRODID:-//Kerschensteinerschule Hausen Frankfurt am Main - ECPv6.15.20//NONSGML v1.0//EN
CALSCALE:GREGORIAN
METHOD:PUBLISH
X-WR-CALNAME:Kerschensteinerschule Hausen Frankfurt am Main
X-ORIGINAL-URL:https://kerschensteinerschule-hausen.de
X-WR-CALDESC:Veranstaltungen für Kerschensteinerschule Hausen Frankfurt am Main
REFRESH-INTERVAL;VALUE=DURATION:PT1H
X-Robots-Tag:noindex
X-PUBLISHED-TTL:PT1H
BEGIN:VTIMEZONE
TZID:Europe/Berlin
BEGIN:DAYLIGHT
TZOFFSETFROM:+0100
TZOFFSETTO:+0200
TZNAME:CEST
DTSTART:20240331T010000
END:DAYLIGHT
BEGIN:STANDARD
TZOFFSETFROM:+0200
TZOFFSETTO:+0100
TZNAME:CET
DTSTART:20241027T010000
END:STANDARD
BEGIN:DAYLIGHT
TZOFFSETFROM:+0100
TZOFFSETTO:+0200
TZNAME:CEST
DTSTART:20250330T010000
END:DAYLIGHT
BEGIN:STANDARD
TZOFFSETFROM:+0200
TZOFFSETTO:+0100
TZNAME:CET
DTSTART:20251026T010000
END:STANDARD
BEGIN:DAYLIGHT
TZOFFSETFROM:+0100
TZOFFSETTO:+0200
TZNAME:CEST
DTSTART:20260329T010000
END:DAYLIGHT
BEGIN:STANDARD
TZOFFSETFROM:+0200
TZOFFSETTO:+0100
TZNAME:CET
DTSTART:20261025T010000
END:STANDARD
END:VTIMEZONE
BEGIN:VEVENT
DTSTART;VALUE=DATE:20250707
DTEND;VALUE=DATE:20250816
DTSTAMP:20260420T125420
CREATED:20241020T070428Z
LAST-MODIFIED:20241020T070428Z
UID:3074-1751846400-1755302399@kerschensteinerschule-hausen.de
SUMMARY:Sommerferien/ Betreuung nach Anmeldung Woche 4-6
DESCRIPTION:
URL:https://kerschensteinerschule-hausen.de/event/sommerferien-betreuung-nach-anmeldung-woche-4-6/
LOCATION:SCHULFREI
CATEGORIES:FÜR ALLE
END:VEVENT
BEGIN:VEVENT
DTSTART;TZID=Europe/Berlin:20250811T080000
DTEND;TZID=Europe/Berlin:20250815T130000
DTSTAMP:20260420T125420
CREATED:20250629T101251Z
LAST-MODIFIED:20250629T101251Z
UID:3165-1754899200-1755262800@kerschensteinerschule-hausen.de
SUMMARY:Sekretariat besetzt_letzte Ferienwoche
DESCRIPTION:
URL:https://kerschensteinerschule-hausen.de/event/sekretariat-besetzt_letzte-ferienwoche/
LOCATION:Kerschensteinerschule
END:VEVENT
BEGIN:VEVENT
DTSTART;TZID=Europe/Berlin:20250815T090000
DTEND;TZID=Europe/Berlin:20250815T120000
DTSTAMP:20260420T125420
CREATED:20241020T070528Z
LAST-MODIFIED:20241020T070528Z
UID:3076-1755248400-1755259200@kerschensteinerschule-hausen.de
SUMMARY:Gesamtkonferenz
DESCRIPTION:
URL:https://kerschensteinerschule-hausen.de/event/gesamtkonferenz-19/
LOCATION:Musikraum
CATEGORIES:ELTERN & LEHRER
END:VEVENT
BEGIN:VEVENT
DTSTART;TZID=Europe/Berlin:20250818T084500
DTEND;TZID=Europe/Berlin:20250818T123500
DTSTAMP:20260420T125420
CREATED:20241020T070624Z
LAST-MODIFIED:20241020T070624Z
UID:3078-1755506700-1755520500@kerschensteinerschule-hausen.de
SUMMARY:1. Schultag
DESCRIPTION:
URL:https://kerschensteinerschule-hausen.de/event/1-schultag-2/
LOCATION:Kerschensteinerschule
CATEGORIES:SCHÜLER & LEHRER
END:VEVENT
BEGIN:VEVENT
DTSTART;TZID=Europe/Berlin:20250819T100000
DTEND;TZID=Europe/Berlin:20250819T113000
DTSTAMP:20260420T125420
CREATED:20241020T070720Z
LAST-MODIFIED:20241020T070720Z
UID:3080-1755597600-1755603000@kerschensteinerschule-hausen.de
SUMMARY:Einschulung
DESCRIPTION:
URL:https://kerschensteinerschule-hausen.de/event/einschulung-3/
LOCATION:Kerschensteinerschule
CATEGORIES:SCHÜLER & LEHRER
END:VEVENT
BEGIN:VEVENT
DTSTART;TZID=Europe/Berlin:20250828T190000
DTEND;TZID=Europe/Berlin:20250828T203000
DTSTAMP:20260420T125420
CREATED:20250823T140656Z
LAST-MODIFIED:20250823T140656Z
UID:3222-1756407600-1756413000@kerschensteinerschule-hausen.de
SUMMARY:Elternabend Jahrgang 1 mit Wahl
DESCRIPTION:
URL:https://kerschensteinerschule-hausen.de/event/elternabend-jahrgang-1-mit-wahl/
LOCATION:Kerschensteinerschule
CATEGORIES:ELTERN & LEHRER
END:VEVENT
END:VCALENDAR