BEGIN:VCALENDAR
VERSION:2.0
PRODID:-//Kerschensteinerschule Hausen Frankfurt am Main - ECPv6.15.20//NONSGML v1.0//EN
CALSCALE:GREGORIAN
METHOD:PUBLISH
X-ORIGINAL-URL:https://kerschensteinerschule-hausen.de
X-WR-CALDESC:Veranstaltungen für Kerschensteinerschule Hausen Frankfurt am Main
REFRESH-INTERVAL;VALUE=DURATION:PT1H
X-Robots-Tag:noindex
X-PUBLISHED-TTL:PT1H
BEGIN:VTIMEZONE
TZID:Europe/Berlin
BEGIN:DAYLIGHT
TZOFFSETFROM:+0100
TZOFFSETTO:+0200
TZNAME:CEST
DTSTART:20240331T010000
END:DAYLIGHT
BEGIN:STANDARD
TZOFFSETFROM:+0200
TZOFFSETTO:+0100
TZNAME:CET
DTSTART:20241027T010000
END:STANDARD
BEGIN:DAYLIGHT
TZOFFSETFROM:+0100
TZOFFSETTO:+0200
TZNAME:CEST
DTSTART:20250330T010000
END:DAYLIGHT
BEGIN:STANDARD
TZOFFSETFROM:+0200
TZOFFSETTO:+0100
TZNAME:CET
DTSTART:20251026T010000
END:STANDARD
BEGIN:DAYLIGHT
TZOFFSETFROM:+0100
TZOFFSETTO:+0200
TZNAME:CEST
DTSTART:20260329T010000
END:DAYLIGHT
BEGIN:STANDARD
TZOFFSETFROM:+0200
TZOFFSETTO:+0100
TZNAME:CET
DTSTART:20261025T010000
END:STANDARD
END:VTIMEZONE
BEGIN:VEVENT
DTSTART;TZID=Europe/Berlin:20250901T080000
DTEND;TZID=Europe/Berlin:20250901T170000
DTSTAMP:20260420T144233
CREATED:20250823T140823Z
LAST-MODIFIED:20250823T140823Z
UID:3224-1756713600-1756746000@kerschensteinerschule-hausen.de
SUMMARY:Start Vorlaufkurs\, AG`s und HSU Arabisch und Türkisch\, Start Schwimmunterricht 3a+ 3b
DESCRIPTION:
URL:https://kerschensteinerschule-hausen.de/event/start-vorlaufkurs-ags-und-hsu-arabisch-und-tuerkisch-start-schwimmunterricht-3a-3b/
LOCATION:Kerschensteinerschule
CATEGORIES:FÜR ALLE
END:VEVENT
BEGIN:VEVENT
DTSTART;TZID=Europe/Berlin:20250903T083000
DTEND;TZID=Europe/Berlin:20250903T123000
DTSTAMP:20260420T144233
CREATED:20250823T140931Z
LAST-MODIFIED:20250823T140931Z
UID:3226-1756888200-1756902600@kerschensteinerschule-hausen.de
SUMMARY:Theater für Alle\, Jg. 4
DESCRIPTION:
URL:https://kerschensteinerschule-hausen.de/event/theater-fuer-alle-jg-4/
LOCATION:Kerschensteinerschule
CATEGORIES:SCHÜLER & LEHRER
END:VEVENT
BEGIN:VEVENT
DTSTART;TZID=Europe/Berlin:20250904T190000
DTEND;TZID=Europe/Berlin:20250904T203000
DTSTAMP:20260420T144233
CREATED:20250823T141049Z
LAST-MODIFIED:20250823T141049Z
UID:3228-1757012400-1757017800@kerschensteinerschule-hausen.de
SUMMARY:Elternabend Jahrgang 2\, Vorstellung Frankfurter Bücherkoffer
DESCRIPTION:
URL:https://kerschensteinerschule-hausen.de/event/elternabend-jahrgang-2-vorstellung-frankfurter-buecherkoffer/
LOCATION:Kerschensteinerschule
CATEGORIES:ELTERN & LEHRER
END:VEVENT
BEGIN:VEVENT
DTSTART;TZID=Europe/Berlin:20250911T110000
DTEND;TZID=Europe/Berlin:20250911T110500
DTSTAMP:20260420T144233
CREATED:20250823T141238Z
LAST-MODIFIED:20250823T141238Z
UID:3232-1757588400-1757588700@kerschensteinerschule-hausen.de
SUMMARY:bundesweiter Warntag
DESCRIPTION:
URL:https://kerschensteinerschule-hausen.de/event/bundesweiter-warntag-3/
LOCATION:Kerschensteinerschule
CATEGORIES:FÜR ALLE
END:VEVENT
BEGIN:VEVENT
DTSTART;TZID=Europe/Berlin:20250911T190000
DTEND;TZID=Europe/Berlin:20250911T203000
DTSTAMP:20260420T144233
CREATED:20250823T141136Z
LAST-MODIFIED:20250823T141136Z
UID:3230-1757617200-1757622600@kerschensteinerschule-hausen.de
SUMMARY:Elternabend Jahrgang 4
DESCRIPTION:
URL:https://kerschensteinerschule-hausen.de/event/elternabend-jahrgang-4-2/
LOCATION:Musikraum
CATEGORIES:ELTERN & LEHRER
END:VEVENT
BEGIN:VEVENT
DTSTART;TZID=Europe/Berlin:20250915T140000
DTEND;TZID=Europe/Berlin:20250915T163000
DTSTAMP:20260420T144233
CREATED:20250823T141343Z
LAST-MODIFIED:20250823T141343Z
UID:3234-1757944800-1757953800@kerschensteinerschule-hausen.de
SUMMARY:Gesamtkonferenz
DESCRIPTION:
URL:https://kerschensteinerschule-hausen.de/event/gesamtkonferenz-20/
LOCATION:Kerschensteinerschule
CATEGORIES:ELTERN & LEHRER,LEHRER*INNEN
END:VEVENT
BEGIN:VEVENT
DTSTART;TZID=Europe/Berlin:20250917T083000
DTEND;TZID=Europe/Berlin:20250917T123000
DTSTAMP:20260420T144233
CREATED:20250823T141438Z
LAST-MODIFIED:20250823T141438Z
UID:3236-1758097800-1758112200@kerschensteinerschule-hausen.de
SUMMARY:Theater für Alle\, Jahrgang 3
DESCRIPTION:
URL:https://kerschensteinerschule-hausen.de/event/theater-fuer-alle-jahrgang-3/
LOCATION:Kerschensteinerschule
CATEGORIES:SCHÜLER & LEHRER
END:VEVENT
BEGIN:VEVENT
DTSTART;TZID=Europe/Berlin:20250922T080000
DTEND;TZID=Europe/Berlin:20250922T123000
DTSTAMP:20260420T144233
CREATED:20250823T141532Z
LAST-MODIFIED:20250823T141532Z
UID:3238-1758528000-1758544200@kerschensteinerschule-hausen.de
SUMMARY:3a\, Ausflug Lohrberg
DESCRIPTION:
URL:https://kerschensteinerschule-hausen.de/event/3a-ausflug-lohrberg/
LOCATION:Kerschensteinerschule
CATEGORIES:SCHÜLER & LEHRER
END:VEVENT
BEGIN:VEVENT
DTSTART;TZID=Europe/Berlin:20250923T093000
DTEND;TZID=Europe/Berlin:20250923T094000
DTSTAMP:20260420T144233
CREATED:20250823T141629Z
LAST-MODIFIED:20250823T141629Z
UID:3240-1758619800-1758620400@kerschensteinerschule-hausen.de
SUMMARY:angekündigter Feueralarm
DESCRIPTION:
URL:https://kerschensteinerschule-hausen.de/event/angekuendigter-feueralarm-2/
LOCATION:Kerschensteinerschule
CATEGORIES:FÜR ALLE
END:VEVENT
BEGIN:VEVENT
DTSTART;TZID=Europe/Berlin:20250924T080000
DTEND;TZID=Europe/Berlin:20250924T123000
DTSTAMP:20260420T144233
CREATED:20250823T141722Z
LAST-MODIFIED:20250823T141722Z
UID:3242-1758700800-1758717000@kerschensteinerschule-hausen.de
SUMMARY:Verkehrserziehung Jahrgang 1
DESCRIPTION:
URL:https://kerschensteinerschule-hausen.de/event/verkehrserziehung-jahrgang-1/
LOCATION:Kerschensteinerschule
CATEGORIES:SCHÜLER & LEHRER
END:VEVENT
END:VCALENDAR