BEGIN:VCALENDAR
VERSION:2.0
PRODID:-//Kerschensteinerschule Hausen Frankfurt am Main - ECPv6.15.20//NONSGML v1.0//EN
CALSCALE:GREGORIAN
METHOD:PUBLISH
X-ORIGINAL-URL:https://kerschensteinerschule-hausen.de
X-WR-CALDESC:Veranstaltungen für Kerschensteinerschule Hausen Frankfurt am Main
REFRESH-INTERVAL;VALUE=DURATION:PT1H
X-Robots-Tag:noindex
X-PUBLISHED-TTL:PT1H
BEGIN:VTIMEZONE
TZID:Europe/Berlin
BEGIN:DAYLIGHT
TZOFFSETFROM:+0100
TZOFFSETTO:+0200
TZNAME:CEST
DTSTART:20240331T010000
END:DAYLIGHT
BEGIN:STANDARD
TZOFFSETFROM:+0200
TZOFFSETTO:+0100
TZNAME:CET
DTSTART:20241027T010000
END:STANDARD
BEGIN:DAYLIGHT
TZOFFSETFROM:+0100
TZOFFSETTO:+0200
TZNAME:CEST
DTSTART:20250330T010000
END:DAYLIGHT
BEGIN:STANDARD
TZOFFSETFROM:+0200
TZOFFSETTO:+0100
TZNAME:CET
DTSTART:20251026T010000
END:STANDARD
BEGIN:DAYLIGHT
TZOFFSETFROM:+0100
TZOFFSETTO:+0200
TZNAME:CEST
DTSTART:20260329T010000
END:DAYLIGHT
BEGIN:STANDARD
TZOFFSETFROM:+0200
TZOFFSETTO:+0100
TZNAME:CET
DTSTART:20261025T010000
END:STANDARD
BEGIN:DAYLIGHT
TZOFFSETFROM:+0100
TZOFFSETTO:+0200
TZNAME:CEST
DTSTART:20270328T010000
END:DAYLIGHT
BEGIN:STANDARD
TZOFFSETFROM:+0200
TZOFFSETTO:+0100
TZNAME:CET
DTSTART:20271031T010000
END:STANDARD
END:VTIMEZONE
BEGIN:VEVENT
DTSTART;TZID=Europe/Berlin:20251202T180000
DTEND;TZID=Europe/Berlin:20251202T190000
DTSTAMP:20260424T124203
CREATED:20251012T095840Z
LAST-MODIFIED:20251012T095840Z
UID:3310-1764698400-1764702000@kerschensteinerschule-hausen.de
SUMMARY:1. Schulkonferenzsitzung
DESCRIPTION:
URL:https://kerschensteinerschule-hausen.de/event/1-schulkonferenzsitzung-2/
LOCATION:Kerschensteinerschule
CATEGORIES:ELTERN & LEHRER
END:VEVENT
BEGIN:VEVENT
DTSTART;TZID=Europe/Berlin:20251203T083000
DTEND;TZID=Europe/Berlin:20251203T123000
DTSTAMP:20260424T124203
CREATED:20251012T095949Z
LAST-MODIFIED:20251012T095949Z
UID:3312-1764750600-1764765000@kerschensteinerschule-hausen.de
SUMMARY:Theater für Alle/ Jahrgang 2
DESCRIPTION:
URL:https://kerschensteinerschule-hausen.de/event/theater-fuer-alle-jahrgang-2-2/
LOCATION:Kerschensteinerschule
CATEGORIES:SCHÜLER & LEHRER
END:VEVENT
BEGIN:VEVENT
DTSTART;TZID=Europe/Berlin:20251208T080000
DTEND;TZID=Europe/Berlin:20251211T170000
DTSTAMP:20260424T124203
CREATED:20251012T100048Z
LAST-MODIFIED:20251012T100048Z
UID:3314-1765180800-1765472400@kerschensteinerschule-hausen.de
SUMMARY:Dottenfelder Hof/ Jahrgang 4
DESCRIPTION:
URL:https://kerschensteinerschule-hausen.de/event/dottenfelder-hof-jahrgang-4-2/
CATEGORIES:SCHÜLER & LEHRER
END:VEVENT
BEGIN:VEVENT
DTSTART;TZID=Europe/Berlin:20251217T083000
DTEND;TZID=Europe/Berlin:20251217T123000
DTSTAMP:20260424T124203
CREATED:20251012T100146Z
LAST-MODIFIED:20251012T100146Z
UID:3316-1765960200-1765974600@kerschensteinerschule-hausen.de
SUMMARY:Theater für Alle/ Jahrgang 1
DESCRIPTION:
URL:https://kerschensteinerschule-hausen.de/event/theater-fuer-alle-jahrgang-1-2/
LOCATION:Kerschensteinerschule
CATEGORIES:SCHÜLER & LEHRER
END:VEVENT
BEGIN:VEVENT
DTSTART;TZID=Europe/Berlin:20251219T080000
DTEND;TZID=Europe/Berlin:20251219T104500
DTSTAMP:20260424T124203
CREATED:20251012T100314Z
LAST-MODIFIED:20251012T100314Z
UID:3318-1766131200-1766141100@kerschensteinerschule-hausen.de
SUMMARY:letzter Schultag vor den Weihnachtsferien/ Betreuung geschlossen/ Unterricht 8:00- 10:45 Uhr
DESCRIPTION:
URL:https://kerschensteinerschule-hausen.de/event/letzter-schultag-vor-den-weihnachtsferien-betreuung-geschlossen-unterricht-800-1045-uhr/
CATEGORIES:FÜR ALLE
END:VEVENT
BEGIN:VEVENT
DTSTART;TZID=Europe/Berlin:20251222T080000
DTEND;TZID=Europe/Berlin:20260110T170000
DTSTAMP:20260424T124203
CREATED:20251012T100539Z
LAST-MODIFIED:20251012T100539Z
UID:3322-1766390400-1768064400@kerschensteinerschule-hausen.de
SUMMARY:Weihnachtsferien/ Betreuung nach Anmeldung
DESCRIPTION:
URL:https://kerschensteinerschule-hausen.de/event/weihnachtsferien-betreuung-nach-anmeldung/
LOCATION:SCHULFREI
CATEGORIES:FÜR ALLE
END:VEVENT
END:VCALENDAR